BEGIN:VCALENDAR
VERSION:2.0
CALSCALE:GREGORIAN
PRODID:-//MyApp//Calendar 1.0//EN
BEGIN:VEVENT
METHOD:PUBLISH
UID:47858@regionalniportaly.cz
DTSTAMP:20260424T114539Z
DTSTART;VALUE=DATE:20250719
DTEND;VALUE=DATE:20250720
SUMMARY:Den otevřených sklepů Hovorany 2025
DESCRIPTION:Nahlédněte do sklepa více než 20 vinařům a to 19. července od 11.00 hod.Na již 18. ročníku můžete ochutnat nejlepší vína od našich vinařů a&nbsp\;chutnat také mnoho specialit k&nbsp\;jídlu.Od 20 hodin&nbsp\;se můžete těšit na večerní zábavu.V&nbsp\;neděli od 9.00 hod. možnost zakoupení vína ve vinných sklepech.
LOCATION:Hovorany
END:VEVENT
END:VCALENDAR