BEGIN:VCALENDAR
VERSION:2.0
CALSCALE:GREGORIAN
PRODID:-//MyApp//Calendar 1.0//EN
BEGIN:VEVENT
METHOD:PUBLISH
UID:48068@regionalniportaly.cz
DTSTAMP:20260422T060201Z
DTSTART;VALUE=DATE:20250620
DTEND;VALUE=DATE:20250621
SUMMARY:Festival Mezi Sklepy 2025
DESCRIPTION:V termínu 20. – 21. června 2025 proběhne třetí ročník 𝐅𝐞𝐬𝐭𝐢𝐯𝐚𝐥𝐮 𝐌𝐞𝐳𝐢 𝐒𝐤𝐥𝐞𝐩𝐲. Což je ojedinělý festival otevřených mutěnických sklepů s dvoudenním doprovodným hudebním multižánrovým programem. Jde o akce\, která nemá na Jižní Moravě obdoby.Otevřeno bude kolem 40 vinných sklepů v mutěnickém sklepním areálu Pod Búdama\, kde je soustředěno více jak 500 vinných sklepů.Jako tradičně bude kapacita festivalu omezena\, aby pořadatel i vinaři zajistili\, že bude o všechny hosty dobře postaráno\, že nebudou před sklepy fronty a bude čas s vinařem prohodit pár slov o jeho vínech a vinařství.Těšit se můžete na obvyklé odrůdy\, jakými jsou v Mutěnicích ryzlink rýnský\, sylvánské zelené\, tramín červený a zweigeltrebe vyráběné klasickou metodou\, ale také na autentická vína\, vína vyrobená kachetinskou technologií a mutěnická vína VOC (Vína originální certifikace) a další početné speciality vinařů. V doprovodném hudebním programu si užijete festivalovou atmosféru přímo v srdci vinných sklepů.𝗜𝗻𝗳𝗼𝗿𝗺𝗮𝗰𝗲 𝗼 𝗳𝗲𝘀𝘁𝗶𝘃𝗮𝗹𝘂:Hlavním cílem festivalu Mezi Sklepy je propojení dobrého moravského vína a nejrůznějších hudebních žánrů\, podpora místních vinařů\, místních tradic a setkání dobrých a pohodových lidí a podpora cestovního ruchu v Mutěnicích.𝗢𝗧𝗘𝗩𝗥̌𝗘𝗡𝗘́ 𝗦𝗞𝗟𝗘𝗣𝗬:V sobotu od 10.00 hod. proběhne celodenní ochutnávka vín v cca 40 sklepech v lokalitě Pod Búdama. V Mutěnicích navštívíte mimo známé vinaře zabývající se výrobou vín moderní technologií\, také vinaře s klasickou a speciální výrobou vín. Pro návštěvníky festivalu budou připraveny ochutnávky vín a prohlídky sklepů i u vinařů\, kteří se na běžných komerčních akcích nevyskytují. Navíc můžete po dohodě s vinařem nahlédnout do srdce vinařova sklepu a můžete nasát jedinečnou atmosféru v podzemním labyrintu a ochutnat vína přímo ze sudu. Navštívit bude možné kromě moderních vinařství také nejrůznější historické sklepy a rotundy a navštívit sklep se základním kamenem z 16. století.Festival Mezi Sklepy se stal dříve Dobrým andělem. Šířením této skvělé myšlenky Nadace Dobrý anděl\, která pomáhá rodinám s dětmi\, které se vlivem vážné nemoci dostaly do těžké situace\, bude festival každoročně podporovat. Proto i vy se můžete stát dobrým andělem.
LOCATION:Mutěnice
END:VEVENT
END:VCALENDAR