BEGIN:VCALENDAR
VERSION:2.0
CALSCALE:GREGORIAN
PRODID:-//MyApp//Calendar 1.0//EN
BEGIN:VEVENT
METHOD:PUBLISH
UID:48628@regionalniportaly.cz
DTSTAMP:20260425T102847Z
DTSTART;VALUE=DATE:20250308
DTEND;VALUE=DATE:20250309
SUMMARY:Tomáš Vaněk
DESCRIPTION:SPECIÁLNÍ AKCE V RÁMCI MDŽ: PRO ŽENY SLEVA 48% NA VSTUPNÉ!TOMÁŠ VANĚK&nbsp\;je herec\, zpěvák\, producent\, dabér\, moderátor a patron Akce Cihla.Už od dětského věku hrál několik let v Městském divadle Mladá Boleslav\, později vystudoval činoherní herectví na DAMU. Za léta působení v oblasti hudebního divadla se již zařadil mezi spolehlivé stálice. Zářil především v Goja Music Hall\, ztvárnil však také hlavní role v Divadle Na Jezerce\, Divadle Semafor\, Divadle Hybernia\, Divadle Na Prádle a Divadle Kalich. Účinkoval také v&nbsp\;Letních shakespearovských slavnostech.Za své výkony již sklidil mnoho ocenění. Byl dvakrát nominován na prestižní divadelní Cenu Thálie\, získal cenu magazínu musical-opereta.cz „Muzikálový herec roku“ 2018 udělovanou divadelními kritiky z celé ČR. Ve&nbsp\;stejném roce byl také ve velké výroční anketě portálu i-divadlo.cz zvolen diváky jako vítěz v kategorii „Nejlepší mužský herecký výkon roku“ 2018. Za umělecké vedení a&nbsp\;produkci ve spolku art4rent byl v roce 2019 ve velké výroční anketě redakce portálu i-divadlo.cz nominován do užšího výběru na „Divadelní osobnost roku“.Jako host vystoupí:&nbsp\;IVANA VAŇKOVÁ - sólistka a herečka Městského divadla Brno. Držitelka Ceny Františka Filipovského 2018 za dabing k filmu Mary Poppins. Byla v širší nominaci na Cenu Thálie za rok 2022 za roli Diany v muzikálu NE/NORMÁLNÍ.V současné době můžete Ivanu vidět v rolích:&nbsp\; Kleopatra\, egyptská královna -&nbsp\;Antonius a Kleopatra\, Marlene Dietrich -&nbsp\;Vrabčák a anděl\, Bertha Masonová -&nbsp\;Jane Eyrová\, Donna Sheridanová -&nbsp\;Mamma Mia!\, Agnes Coleová -&nbsp\;Medicus\, Diana -&nbsp\;NE/NORMÁLNÍ\, Anna -&nbsp\;Anna Karenina\, Paní Wormwoodová -&nbsp\;Matilda\, Monica Reedová -&nbsp\;Hvězda v pasti a dalších.Jejím televizním debutem byla role operní subrety Elly Vienny&nbsp\;ve třetí řadě Četnických humoresek.
LOCATION:Ždánice
END:VEVENT
END:VCALENDAR