BEGIN:VCALENDAR
VERSION:2.0
CALSCALE:GREGORIAN
PRODID:-//MyApp//Calendar 1.0//EN
BEGIN:VEVENT
METHOD:PUBLISH
UID:48719@regionalniportaly.cz
DTSTAMP:20260422T075214Z
DTSTART;VALUE=DATE:20250607
DTEND;VALUE=DATE:20250608
SUMMARY:Noční sklepy: Při měsíčku na skleničku 2025
DESCRIPTION:Přijďte zažít magii nočních otevřených sklepů pod hvězdnou oblohou v jedinečném areálu Mutěnských Búd&nbsp\;7. 6. 2025. Vinaři v tuto noc otevřou své sklepy a to bude mimořádná příležitost k ochutnání jejich vín. Začátek akce v 18:00 a předpokládaný konec 00:00.&nbsp\;U vstupu návštěvník obdrží katalog s mapou sklepů a nabízenými víny\, propisku\, tašku a degustační skleničku. Degustační konzumace vína není nijak omezena.&nbsp\;V rámci vstupného návštěvníci obdrží kupóny k odběru vína v hodnotě 4x100 Kč. Víno bude možné zakoupit buď okamžitě anebo další den&nbsp\;v neděli 8. 6. 2025 od 9:00 do 12:00&nbsp\;přímo ve vinařství.Doprovodný program akce bude zpívání mezi sklepy od místních pěveckých sborů.&nbsp\;Občerstvení bude zajištěno přímo ve sklepech vinařů.Pokud hledáte ubytování přímo v obci\, najdete širokou škálu ubytovacích zařízení na&nbsp\;oficiálních&nbsp\;stránkách obce Mutěnice. Další nabídky můžete vyhledat na internetu nebo v&nbsp\;diskuzi události na Facebooku.&nbsp\;Pro ubytované&nbsp\;mimo obec&nbsp\;budou zajištěny taxiky.Areál Mutěnských búd patří mezi jedny z největších komplexů sklepních uliček na Moravě. Na jednom místě je více než 500 vinných sklepů\, často s tradiční výzdobou. Nejtypičtějším prvkem jsou malované žudra tradičními ornamenty maléreček. Hospodaří zde velká spousta malých i velkých vinařů. Každý z nich má svůj osobitý výrobní styl\, svoji filozofii a náhled na práci ve vinici a ve sklepě. Pokud patříte mezi milovníky vína a zábavy\, neváhejte přijít na naši akci Při měsíčku na skleničku\, kde se s námi můžete potkat\,&nbsp\;pohovořit o víně a degustovat.Na tuto akci vás bude hostit 15 vinařství ve svých sklepech v noční atmosféře pod hvězdnou oblohou. Těšit se můžete nejen na skvělou náladu a kvalitní vína\, ale také domácí občerstvení z rodin vinařů a hudební folklorní program. U nás se nudit nebudete!
LOCATION:Mutěnice
END:VEVENT
END:VCALENDAR