BEGIN:VCALENDAR
VERSION:2.0
CALSCALE:GREGORIAN
PRODID:-//MyApp//Calendar 1.0//EN
BEGIN:VEVENT
METHOD:PUBLISH
UID:48780@regionalniportaly.cz
DTSTAMP:20260424T152058Z
DTSTART;VALUE=DATE:20250523
DTEND;VALUE=DATE:20250524
SUMMARY:Michal Nesveda - Továrna na zázraky
DESCRIPTION:Michal Nesveda je mentalista a iluzionista\, který následuje mága Harryho Houdiniho.První vystoupení měl Michal již ve svých 10 letech. V roce 2006 začal v Divadle kouzel Praha studovat svět magie a iluzí pod vedením Jaroslava Randáčka. O dva roky později zúročil své znalosti na mezinárodní kouzelnické soutěži Marvin Cup\, ze které si přivezl 3. místo. Za svou kariéru uvedl hned několik kouzelnických shows (Adams Family\,&nbsp\;Alenka v Říši divů\, nebo celovečerní&nbsp\;Nekonečno snů) a zúčastnil se soutěží\, které mu přinesly další významná ocenění. Od roku 2020 vystupuje s představením&nbsp\;Továrna na zázraky.150 let od narození Harryho Houdiniho\, se český následovník slavného mága pokusí o jeho nejnebezpečnější únik vůbec!Právě Houdiniho příběhem je inspirovaná show Továrna na zázraky. Představení o snech\, ale i nočních můrách. Diváci uvidí i historicky nejnebezpečnější únik\, o který se i Michal kdy pokusil.Nyní jde ještě dál\, předvede únik z takzvaných "čelistí" - jde o vysoko zavěšenou hořící past\, která secvakne po uběhnutí limitu. Michal tentokráte pouta vymění za&nbsp\;svěrací kazajku\, z té by totiž nemělo být úniku.&nbsp\;Dostane se ven?Mimo to uvidíte také Michalovy nejlepší mentalistické experimenty a iluze\, čtení mysli\, předpovídání budoucnosti\, krásná kouzla s živými rybičkami i další zázraky.Přijďte se nechat okouzlit a zažijete to na vlastní oči!&nbsp\;&nbsp\;
LOCATION:Ždánice
END:VEVENT
END:VCALENDAR