BEGIN:VCALENDAR
VERSION:2.0
CALSCALE:GREGORIAN
PRODID:-//MyApp//Calendar 1.0//EN
BEGIN:VEVENT
METHOD:PUBLISH
UID:48839@regionalniportaly.cz
DTSTAMP:20260422T080456Z
DTSTART;VALUE=DATE:20250822
DTEND;VALUE=DATE:20250823
SUMMARY:Protheus - Koncert pod širým nebem | Dubňany
DESCRIPTION:Protheus\, vlastním jménem Jan Macků\, se svojí kapelou složenou ze špiček české rockové scény\, připravuje na trio exkluzivních koncertů po širým nebem!Protheus má za sebou skutečně úspěšný první rok sólové kariéry. Kapela odehrála osmadvacet koncertů společného turné s kapelou Komunál. Vystoupila na několika desítkách festivalů a slavností po celé ČR a vše završila vyprodaným megakoncertem ve Foru Karlín.Na léto příštího roku chystá Protheus i sérii originálních koncertů ! Bude nejen hudební zážitek\, ale Protheus si pro svoje fanoušky pokaždé připravuje pořádnou rockovou show a zároveň „rodinnou atmosféru“.Jak sám říká „Není to jen koncert. Je to oslava života\, rokenrolu a společné energie. Je to sounáležitost a radost.“Hosty koncertů zveřejníme v na začátku roku 2025.
LOCATION:Dubňany
END:VEVENT
END:VCALENDAR