BEGIN:VCALENDAR
VERSION:2.0
CALSCALE:GREGORIAN
PRODID:-//MyApp//Calendar 1.0//EN
BEGIN:VEVENT
METHOD:PUBLISH
UID:48995@regionalniportaly.cz
DTSTAMP:20260424T155311Z
DTSTART;VALUE=DATE:20250213
DTEND;VALUE=DATE:20250214
SUMMARY:Sirény na cestách
DESCRIPTION:Zcela nová zábavná talk show ženské trojice hereček a zpěvaček Sandry POGODOVÉ\, Jitky ASTEROVÉ a Lindy FINKOVÉ - "SIRÉNY NA CESTÁCH".Jejich neotřelý smysl pro humor a vzájemná chuť si ze sebe utahovat vás rozhodně pobaví.Pořad je plný šťavnatých vyprávění a historek ze zákulisí natáčení a divadelního světa. To vše prošpikováno šansony a písněmi z muzikálů tvoří dokonalý program\, na který budete dlouho vzpomínat s úsměvem na tváři.Po skončení pořadu je ještě jako bonus autogramiáda
LOCATION:Svatobořice-Mistřín
END:VEVENT
END:VCALENDAR