BEGIN:VCALENDAR
VERSION:2.0
CALSCALE:GREGORIAN
PRODID:-//MyApp//Calendar 1.0//EN
BEGIN:VEVENT
METHOD:PUBLISH
UID:49225@regionalniportaly.cz
DTSTAMP:20260424T163634Z
DTSTART;VALUE=DATE:20250315
DTEND;VALUE=DATE:20250316
SUMMARY:Josefský košt 2025
DESCRIPTION:Jubilejní 60. ročník výstavy vín v Kyjově - Josefský košt.&nbsp\;
LOCATION:Kyjov
END:VEVENT
END:VCALENDAR