BEGIN:VCALENDAR
VERSION:2.0
CALSCALE:GREGORIAN
PRODID:-//MyApp//Calendar 1.0//EN
BEGIN:VEVENT
METHOD:PUBLISH
UID:49228@regionalniportaly.cz
DTSTAMP:20260424T131508Z
DTSTART;VALUE=DATE:20250809
DTEND;VALUE=DATE:20250810
SUMMARY:EWA FARNA v Dubňanech
DESCRIPTION:EWA FARNA je polsko-česká zpěvačka\, producentka a autorka....Dnes patří mezi vůbec nejúspěšnější zpěvačky nejen u nás\, ale i v sousedním Polsku\, kde debutovala rok po svém českém startu. Vydala 5 českých a 6 polských řadových desek\, dvě „Best Of“ kompilace a dokonce pár živých záznamů at‘ už akusticky nebo se symfonickým orchestrem.\nV Polsku se dočkala ocenění třeba na proslulých festivalech v Opoli nebo v Sopotech a její singl Cicho se stalo Polským Hitem Dekády.\nByla několikrát porotkyní v televizních pěveckých soutěžích jak v Polsku tak v Čechách a vyzkoušela si i roli moderátorky\, když moderovala dva ročníky hudebních Cen Anděl....Nejnověji se opět stala Českou slavicí 2024!\n \nPředprodej: https://bit.ly/ewa-farna-dubnany\n \n18:30 otevření areálu19:00 předskokan20:30 EWA FARNA koncert
LOCATION:Dubňany
END:VEVENT
END:VCALENDAR