BEGIN:VCALENDAR
VERSION:2.0
CALSCALE:GREGORIAN
PRODID:-//MyApp//Calendar 1.0//EN
BEGIN:VEVENT
METHOD:PUBLISH
UID:49453@regionalniportaly.cz
DTSTAMP:20260424T131431Z
DTSTART;VALUE=DATE:20250711
DTEND;VALUE=DATE:20250712
SUMMARY:Visací zámek / Znouzectnost
DESCRIPTION:VISACÍ ZÁMEK(familiérně&nbsp\;Visáči) je&nbsp\;punková&nbsp\;skupina\, působící na české hudební scéně již od roku 1982. Kapela hraje stále v původní sestavě. Zejména v počátcích svojí tvorby silně ovlivnila zvuk celé jedné generace kapel a názory celé jedné generace posluchačů.&nbsp\;V současné době se kapela vrací k punkovým kořenům a snaží se získat přízeň další generace fanoušků a fanynek například hitem a videoklipem&nbsp\;Známka punku.Při koncertech kapely bývají provolávána hesla „Punk's not dead\, vy volové&nbsp\;či úprava hesla „Punk's not dead“ na „Punk's not sweet“\, která se stala pro kapelu tradičními.====ZNOUZECTNOST&nbsp\;založena blíže nedochovaného data v roce&nbsp\;1986\, členy rozpadlých kapelZastávka&nbsp\;Mileč&nbsp\;a&nbsp\;Kuličkové Ložisko&nbsp\;-&nbsp\;Démou\,&nbsp\;Cainem&nbsp\;a&nbsp\;Jožžinem.Sestavu doplňuje&nbsp\;Golda&nbsp\;a&nbsp\;Znouzectnost&nbsp\;odehraje své historicky první veřejné vystoupení&nbsp\;26.11.1986\, spolu s dalšími kapelami ve vysokoškolském klubu Oko v PlzniOd roku 2010 Znouzectnost vystupuje v naprosté většině v zakládající sestavě:Caine&nbsp\;- zpěv\, bicíDéma&nbsp\;- zpěv\, kytaraGolda&nbsp\;- zpěv\, baskytara&nbsp\;Od svého založení Znouzectnost píše a na koncertech hraje výhradně vlastní repertoár\, mimo pár písní od Zastávky Mileč /u kterých jak hudba\, tak text - Déma/.V současné době se připravuje materál na novou desku.
LOCATION:Dubňany
END:VEVENT
END:VCALENDAR