BEGIN:VCALENDAR
VERSION:2.0
CALSCALE:GREGORIAN
PRODID:-//MyApp//Calendar 1.0//EN
BEGIN:VEVENT
METHOD:PUBLISH
UID:49820@regionalniportaly.cz
DTSTAMP:20260424T113704Z
DTSTART;VALUE=DATE:20250207
DTEND;VALUE=DATE:20250208
SUMMARY:Ladies night
DESCRIPTION:Přijďte si užít večer\, který si zasloužíte\, užijete a nikdy na něho nezapomenete.Těšit se můžete na:Sebevědomá žena: Naučte se věřit si.Problémová menstruace: Jak pochopit své tělo a žít s ním v souladu.Zářivá pleť: Tajemství krásy v každodenní péči.Navíc pro každou:&nbsp\;welcome drinkzdravé party občerstvení - sladké i slané verze.dress code: černá (budeme rádi\, když dorazíte v černé)krásná výzdoba a foto koutek
LOCATION:Kyjov
END:VEVENT
END:VCALENDAR