BEGIN:VCALENDAR
VERSION:2.0
CALSCALE:GREGORIAN
PRODID:-//MyApp//Calendar 1.0//EN
BEGIN:VEVENT
METHOD:PUBLISH
UID:50014@regionalniportaly.cz
DTSTAMP:20260424T133613Z
DTSTART;VALUE=DATE:20250719
DTEND;VALUE=DATE:20250720
SUMMARY:Dubňanské  pivní slavnosti
DESCRIPTION:NA ČEPU VÍCE JAK 25 DRUHŮ PIVAEXILES z&nbsp\;MartinaJsme rocková kapela Exiles z Martina\,&nbsp\; která hraje převzaté písně od slovenských\, českých a zahraničních interpretů\, například: Tublatanka\, Arakain\, Katapult\, ZZ-Top\, Deep Purple\, Elton John.WOTAZNÍKJsme mladá studentská rocková kapela z Prahy a jejího okolí.&nbsp\;Zpíváme česky a hrajeme povětšinou veselý\, skočný rock s nosnými refrény\, které s námi v průběhu posledních let zpívali návštěvníci i na těch největších festivalech a v klubech po celé republice. Je nás šest a máme rádi\, když mají koncerty šťávu\, takže se na pódiu hodně hýbeme\, skáčeme\, děláme kraviny a bavíme lidi.ZOČI VOČISlovenská rocková hudební skupina z&nbsp\;Nitry\, která ve své tvorbě vychází z hudebních žánrů jakými jsou&nbsp\;metalcore\,&nbsp\;punk\,&nbsp\;rock&nbsp\;a&nbsp\;hardcore. Časem tuto směs stylů obohatili o&nbsp\;prvky z&nbsp\;popu. Skupina vznikla 9. října 2004 a jejími zakladateli byli Michal Žitňanský (zpěv\,&nbsp\;kytara) a Filip Miko (zpěv\,&nbsp\;basová kytara). Později se k nim přidal Vlado Kovár (zpěv\,&nbsp\;bicí) a&nbsp\;nakonec Samo Jančo (zpěv\, kytara). Ze&nbsp\;začátku hráli převážně coververze skladeb od kapel jako&nbsp\;Zóna A&nbsp\;nebo&nbsp\;Konflikt. Postupně začali připojovat vlastní písně\, jejichž autorem je převážně Michal Žitňanský. Dnes převážnou část jejich repertoáru tvoří vlastní tvorba. Koncertní repertoár často doplňují o populární písně\, které projdou jejich menší úpravou.VEŘEJNÁ ZKOUŠKAJsme hudební skupina zaměřená na produkci známých českých i zahraničních převážně rockových písní\, do kterých vkládáme náš osobitý styl a energii… Cover band Veřejná zkouška vzniknul v roce 2009 spontánním uskupením několika hudebníků\, kteří vyjeli za prací do Skotska. Svůj volný čas chtěli vyplňovat svým hudebním uměním a vystupovat na veřejnosti. Jednoduše chtěli hrát pro lidi. Po návratu do Česka se postupně z ulic a barů\, kde se tzv. Veřejně zkoušelo propracovala sestava až do dnešní podoby\, kdy se kapela zaměřuje na různá zábavová a plesová vystoupení\, kulturní a veřejné akce\, ale můžete si ji samozřejmě objednat i soukromě. Naše moto zní: "Bavíme lidi tím\, co nás baví" a za tím si plně stojíme\, protože bez lidí a jejich energie by naše hraní bylo jen pouhým velkým NIC.&nbsp\;
LOCATION:Dubňany
END:VEVENT
END:VCALENDAR