BEGIN:VCALENDAR
VERSION:2.0
CALSCALE:GREGORIAN
PRODID:-//MyApp//Calendar 1.0//EN
BEGIN:VEVENT
METHOD:PUBLISH
UID:50388@regionalniportaly.cz
DTSTAMP:20260424T142021Z
DTSTART;VALUE=DATE:20250513
DTEND;VALUE=DATE:20250514
SUMMARY:Žalman & spol.
DESCRIPTION:Koncert folkové ikony Žalman a spol.
LOCATION:Bzenec
END:VEVENT
END:VCALENDAR