BEGIN:VCALENDAR
VERSION:2.0
CALSCALE:GREGORIAN
PRODID:-//MyApp//Calendar 1.0//EN
BEGIN:VEVENT
METHOD:PUBLISH
UID:50416@regionalniportaly.cz
DTSTAMP:20260424T094201Z
DTSTART;VALUE=DATE:20250802
DTEND;VALUE=DATE:20250803
SUMMARY:Desmod
DESCRIPTION:&nbsp\; DESMOD&nbsp\;- Datum a čas: 2.8.2025 od 19.00- Místo konání: Přírodní areál Hangár Dubňany\, Sportovní 1766\, Dubňany&nbsp\;&nbsp\; HARMONOGRAM:&nbsp\;&nbsp\; 19.00 - Otevření areálu&nbsp\;&nbsp\; 20.00 - Předkapela ELPE&nbsp\; 21.00 - Desmod&nbsp\;&nbsp\; 22.30 - After Party Dj&nbsp\; 2.00 - Ukončení akce&nbsp\;
LOCATION:Dubňany
END:VEVENT
END:VCALENDAR