BEGIN:VCALENDAR
VERSION:2.0
CALSCALE:GREGORIAN
PRODID:-//MyApp//Calendar 1.0//EN
BEGIN:VEVENT
METHOD:PUBLISH
UID:50838@regionalniportaly.cz
DTSTAMP:20260422T041348Z
DTSTART;VALUE=DATE:20250614
DTEND;VALUE=DATE:20250615
SUMMARY:Otevřené sklepy Kyjovska - festival vinařů z Kyjova a okolí
DESCRIPTION:Přijměte srdečné pozvání na tradiční vinařskou akci Otevřené sklepy Kyjovska. Jde již o 11. ročník festivalu vína a vinařů z Kyjova a okolí. Bude se na vás těšit 25&nbsp\;vinařů nebo vinařství\, kteří vám v rámci vstupného nabídnou k ochutnání více jak 300 vzorků vín.Využijte zvýhodněné vstupné v předprodeji za 300 Kč pro prvních 100 návštěvníků nebo do 1. 3. 2025.&nbsp\;Od 2. 3. až do 8. 6. vstupné v předprodeji 400 Kč. Pokud nebude vyprodaná kapacita akce\, vstupenky budou v prodeji i na místě.&nbsp\;V ceně vstupného v předprodeji je&nbsp\;sklenička na víno\,&nbsp\;online katalog\, vstup na&nbsp\;kulturní program\, mapa vinařů\, 10 degustačních korun a poukaz na nákup vína 100 Kč. Vzorky vín nejsou zahrnuty do vstupného\, ale budou se platit samostatně pomocí kupónů v hodnotě 10 Kč\, které budou k zakoupení na pokladně.Hlavní pokladna je letos ve stánku na Masarykově náměstí - před radnicí.Degustační skleničky jsou cejchovány na degustační vzorek o objemu 0\,03 lt. Letos jsme se zvláště zaměřili na stánky s občerstvením\, kterých bude několik jak na náměstí tak na Šištótě\, samozřejmostí jsou&nbsp\;mobilní sociální zařízení.Některá stanoviště sídlí v historických sklepech sklepní uličky Šištot\, kde budete mít možnost nahlédnout do sklepních prostorů. Jiná stanoviště budou nabízet svá vína ve stáncích\, podloubích a veřejných prostorách Masarykova náměstí v Kyjově.Bude na vás čekat také bohatý kulturní program. K tanci i poslechu vám budou mezi sklepy prozpěvovat 4 pěvecké sbory a k večerní zábavě budou hrát dvě cimbálové muziky. Na Šištótě v 16:00 vystoupí taky dětský folklorní soubor Kyjovánek.
LOCATION:Kyjov
END:VEVENT
END:VCALENDAR