BEGIN:VCALENDAR
VERSION:2.0
CALSCALE:GREGORIAN
PRODID:-//MyApp//Calendar 1.0//EN
BEGIN:VEVENT
METHOD:PUBLISH
UID:51366@regionalniportaly.cz
DTSTAMP:20260424T102415Z
DTSTART;VALUE=DATE:20250308
DTEND;VALUE=DATE:20250309
SUMMARY:Burza knih
DESCRIPTION:Přijďte na Burzu knih\, časopisů a společenských her! Pokud milujete knihy\, hry a vše\, co se týká zábavy a vzdělání\, je tato akce přímo pro vás! 📚 Co na vás čeká: • Knihy všech žánrů pro každého – romány\, detektivky\, odborné publikace\, dětské knihy i komiksy • Časopisy a magazíny – pro čtenáře všech věkových kategorií • Deskové hry a karetní hry – pro rodiny i partu přátel • Puzzle – pro milovníky skládaček i relaxace.\nDostali jste jako dárek knihu\, přečetli jste ji a teď nevíte\, co s ní? Máte doma „knižní poklady“\, které by mohly jiným udělat radost? To vše můžete osobně nabídnout na naší muzejní burze knih dalším zájemcům. 💡 Jak to bude probíhat: Přijďte prodat\, vyměnit nebo najít nový kousek do své sbírky! Účast je bezplatná. 📅 Kdy: 8. 3. 2025 ⏰ Čas: 13:00–16:00 📍 Kde: Vlastivědné muzeum Kyjov – nová budova \n Přihlásit se můžete osobně\, telefonicky (518 612 338\, 724 986 076)\, e-mailem (knihovna.kv@masaryk.info) či prostřednictvím odkazu: forms.gle/ordYXPq8chChuNmo8
LOCATION:Kyjov
END:VEVENT
END:VCALENDAR