BEGIN:VCALENDAR
VERSION:2.0
CALSCALE:GREGORIAN
PRODID:-//MyApp//Calendar 1.0//EN
BEGIN:VEVENT
METHOD:PUBLISH
UID:51367@regionalniportaly.cz
DTSTAMP:20260424T163410Z
DTSTART;VALUE=DATE:20250315
DTEND;VALUE=DATE:20250316
SUMMARY:Burza krojů
DESCRIPTION:Srdečně zveme zájemce na Burzu lidových oděvů. Přijďte prodat krojovou součást\, kterou nepotřebujete\, nebo si přijďte vybrat tu\, která vám doma chybí. Na burze budou nabízeny lidové kroje\, jejich součásti a materiál na výrobu lidového oděvu především z oblastí Kyjovska\, Vracovska\, Hanáckého Slovácka\, Podluží a okolí.\n📌Burza krojů - informace pro prodejce\n✔ Ve Vlastivědné muzeum Kyjov bude příjem krojových součástí - pátek 14. 3. 2025 15-19 hodin✔ Prodej - sobota 15. 3. 2025 10-14 hodin✔ Výdej neprodaných krojů - sobota 15. 3. 2025 18-19 hodin\n📌 Pro hladký průběh příjmu krojů na prodej\, je vhodné vyplnit předem přihlášku zde: https://forms.gle/osMJBgrLnyj4NEMV9\n📌Pro vaše kroje můžeme přijet\, nebo se na převzetí můžeme domluvit individuálně: kontakt tel: 602677848\, email: m.zalesakova@masaryk.info
LOCATION:Kyjov
END:VEVENT
END:VCALENDAR