BEGIN:VCALENDAR
VERSION:2.0
CALSCALE:GREGORIAN
PRODID:-//MyApp//Calendar 1.0//EN
BEGIN:VEVENT
METHOD:PUBLISH
UID:51368@regionalniportaly.cz
DTSTAMP:20260424T133338Z
DTSTART;VALUE=DATE:20250322
DTEND;VALUE=DATE:20250323
SUMMARY:Bleší trh v muzeu
DESCRIPTION:Na bleším trhu můžete zpeněžit věci\, které vám doma již dosloužily\, zabírají místo\, ale je vám líto je vyhodit. Škála prodávaných předmětů je nevyčerpatelná\, můžete prodávat starožitnosti\, známky\, pohlednice\, fotografie\, odznaky\, obrázky\, plakáty\, hračky\, sklo\, porcelán\, militaria\, fotoaparáty\, gramofony\, gramofonové desky\, staré promítačky nebo prohlížečky\, filmy do nich\, různé kuriozity\, sportovní potřeby\, vybavení domácností\, vybavení hospodářství… Jako pořadatelé si vyhrazujeme omezení sortimentu: na blešáku se nesmí objevit zvířata\, potraviny ani potravinové doplňky\, automobily\, motocykly\, velké stroje a nářadí (s ohledem na omezené prostory)\, oblečení\, pornografie a funkční zbraně bez zbrojního průkazu a další nevhodné předměty. Můžete přinést jeden předmět\, ale také celé soubory\, sbírky i větší množství vzájemně nesouvisejících předmětů. Samostatní prodejci si budou za bezpečnost prodávaných předmětů zodpovídat sami. Každý prodejce bude mít k dispozici vlastní stůl\, kde bude moci předměty vystavit. Bleší trh nebude přístupný komerčním prodejcům se živnostenským oprávněním ani řemeslníkům – zkrátka bude určený jenom pro „obecný lid“ obchodující pouze s vlastním použitým zbožím. Podle toho také určujte ceny svého zboží\, které by měly být spíše symbolické. Projděte své půdy\, sklepy\, zapomenutá zákoutí vašich domovů a nalezené „poklady“ nabídněte ostatním. Možná že právě tu věc\, kterou se chystáte vyhodit\, potřebuje někdo jiný. Teď už záleží jen na vás\, jak pestrý bude muzejní bleší trh!\nOdkaz na přihlášení samostatných prodejců bude zveřejněn v pátek 21. 2. 2025 na www.masaryk.info
LOCATION:Kyjov
END:VEVENT
END:VCALENDAR