BEGIN:VCALENDAR
VERSION:2.0
CALSCALE:GREGORIAN
PRODID:-//MyApp//Calendar 1.0//EN
BEGIN:VEVENT
METHOD:PUBLISH
UID:51369@regionalniportaly.cz
DTSTAMP:20260424T103110Z
DTSTART;VALUE=DATE:20250226
DTEND;VALUE=DATE:20250326
SUMMARY:Kordulky II
DESCRIPTION:📍📍VYPRODÁNO 📍📍 Vlastivědné muzeum Kyjov\, v rámci cyklu kurzů Péče o tradiční lidový oděv Kyjovska\, pořádá další kurz ručního šití a vyšívání kyjovských dívčích kordulek. Kurz proběhne pod vedením lektorky Petry Lebedové. Začátek lekcí je v 17 hodin\, předpokládaná délka trvání 3 hodiny\, lekce proběhnou v termínech 26. 2.\, 5. 3.\, 12. 3.\, 19. 3.\, 26. 3.. Akce se koná za finanční podpory města Kyjova.
LOCATION:Kyjov
END:VEVENT
END:VCALENDAR