BEGIN:VCALENDAR
VERSION:2.0
CALSCALE:GREGORIAN
PRODID:-//MyApp//Calendar 1.0//EN
BEGIN:VEVENT
METHOD:PUBLISH
UID:51457@regionalniportaly.cz
DTSTAMP:20260424T170113Z
DTSTART;VALUE=DATE:20250329
DTEND;VALUE=DATE:20250330
SUMMARY:Normální debil
DESCRIPTION:Retro komedie o životě v socialismu.
LOCATION:Svatobořice-Mistřín
END:VEVENT
END:VCALENDAR