BEGIN:VCALENDAR
VERSION:2.0
CALSCALE:GREGORIAN
PRODID:-//MyApp//Calendar 1.0//EN
BEGIN:VEVENT
METHOD:PUBLISH
UID:51814@regionalniportaly.cz
DTSTAMP:20260424T145831Z
DTSTART;VALUE=DATE:20250621
DTEND;VALUE=DATE:20250622
SUMMARY:Šardický nářez
DESCRIPTION:Šardický nářez je skvělou příležitostí pro všechny\, kteří si chtějí užít jedinečnou atmosféru a nezapomenutelný večer plný skvělé hudby\, energie a chutí!Těšit se můžete na tři skvělé hudební uskupení\, které vás dostanou do varu:SYNTRACM GrajcarMEKI TributePo skončení hlavního programu pokračujeme v párty s DJ PEPE.Nepropásněte jedinečnou příležitost zažít živou hudbu a skvělou atmosféru. Přijďte s přáteli a rozprouděte své chutě a rytmus!
LOCATION:Šardice
END:VEVENT
END:VCALENDAR