BEGIN:VCALENDAR
VERSION:2.0
CALSCALE:GREGORIAN
PRODID:-//MyApp//Calendar 1.0//EN
BEGIN:VEVENT
METHOD:PUBLISH
UID:51822@regionalniportaly.cz
DTSTAMP:20260424T133601Z
DTSTART;VALUE=DATE:20250331
DTEND;VALUE=DATE:20250402
SUMMARY:Velikonoce se blíží...
DESCRIPTION:Srdečně zveme návštěvníky na předváděcí akce řemesel spojené s nákupem drobných dárečků.
LOCATION:Kyjov
END:VEVENT
END:VCALENDAR