BEGIN:VCALENDAR
VERSION:2.0
CALSCALE:GREGORIAN
PRODID:-//MyApp//Calendar 1.0//EN
BEGIN:VEVENT
METHOD:PUBLISH
UID:52052@regionalniportaly.cz
DTSTAMP:20260424T103950Z
DTSTART;VALUE=DATE:20250331
DTEND;VALUE=DATE:20250419
SUMMARY:Velikonoční poklad v muzeu
DESCRIPTION:Dokážete najít v naší expozici Vlastivědného muzea Kyjov všechna ztracená vajíčka? Odměna jistá!
LOCATION:Kyjov
END:VEVENT
END:VCALENDAR