BEGIN:VCALENDAR
VERSION:2.0
CALSCALE:GREGORIAN
PRODID:-//MyApp//Calendar 1.0//EN
BEGIN:VEVENT
METHOD:PUBLISH
UID:52317@regionalniportaly.cz
DTSTAMP:20260424T153035Z
DTSTART;VALUE=DATE:20250517
DTEND;VALUE=DATE:20250518
SUMMARY:Jarní otvírání sklepů v Šardicích
DESCRIPTION:Další ročník vinařské akce\, která navazuje na tradiční letní otevřené sklepy a umožní návštěvu nejen těm milovníkům vína\, jimž letní termín nevyhovuje\, ale i všem ostatním\, kteří mají rádi dobrá moravská vína. Tentokrát úplně jinak.
LOCATION:Šardice
END:VEVENT
END:VCALENDAR