BEGIN:VCALENDAR
VERSION:2.0
CALSCALE:GREGORIAN
PRODID:-//MyApp//Calendar 1.0//EN
BEGIN:VEVENT
METHOD:PUBLISH
UID:52507@regionalniportaly.cz
DTSTAMP:20260424T100514Z
DTSTART;VALUE=DATE:20250622
DTEND;VALUE=DATE:20250623
SUMMARY:Pohádková stezka /  KYJOV
DESCRIPTION:🎉 Nejoblíbenější pohádková stezka míří do Kyjova! 🎉Potkejte své oblíbené pohádkové kamarády!Na trase vás čekají zábavné úkoly pro děti a také setkání s vašimi oblíbenými pohádkovými kamarády\, jako jsou hrdinové z Tlapkové patroly\, Ledového království\, Máši a medvěda\, králíčka Binga a mnoha dalších\, které vaše děti zbožňují. ♥👧 Vhodné pro děti ve věku 2–7 let📅 Datum: 22. 06. 2025⏰ Čas: Najdete na své zakoupené vstupence📍 Místo: Městský park Kyjov (ul. Mezivodí)🚩 Start: https://mapy.cz/s/mumugumoro👶 (Děti do 12 měsíců ZDARMA)Po příchodu se prosím zaregistrujte u našeho stánku. 🎪&nbsp\;🚨 POZOR\, POZOR! 🚨Poslední start pohádkové stezky je ve&nbsp\;11:00–11:10.Po tomto čase již&nbsp\;nebude možné vstoupit na trasu\, dorazte včas! ⏰
LOCATION:Kyjov
END:VEVENT
END:VCALENDAR