BEGIN:VCALENDAR
VERSION:2.0
CALSCALE:GREGORIAN
PRODID:-//MyApp//Calendar 1.0//EN
BEGIN:VEVENT
METHOD:PUBLISH
UID:52891@regionalniportaly.cz
DTSTAMP:20260424T132040Z
DTSTART;VALUE=DATE:20250524
DTEND;VALUE=DATE:20250525
SUMMARY:Jarní putování  vinnými sklepy v Čejči
DESCRIPTION:Milý přátelé\, spoluobčané\, milovníci vína a dobré zábavy. Rádi bychom vás pozvali na akci s názvem \,\,Jarní putování vinnými sklepy v Čejči"\, která se uskuteční 24. května 2025 od 12. hod. tradičně v areálu vinných sklepů \,\,Pod Búdama".Těšit se můžete na&nbsp\;16 otevřených sklepů a vinařství\, dobré jídlo a večerní zábavu s hudební produkcí Víťův brácha.Přijďte se pobavit\, potkat se sousedy a kamarády se sklenkou dobrého vína. Načerpejte atmosféru Moravy\, kde jinde než ve vinných sklepech. Těšíme se na setkání s vámi.Zahrádkáři a vinaři Čejč&nbsp\;
LOCATION:Čejč
END:VEVENT
END:VCALENDAR