BEGIN:VCALENDAR
VERSION:2.0
CALSCALE:GREGORIAN
PRODID:-//MyApp//Calendar 1.0//EN
BEGIN:VEVENT
METHOD:PUBLISH
UID:53323@regionalniportaly.cz
DTSTAMP:20260422T015625Z
DTSTART;VALUE=DATE:20250816
DTEND;VALUE=DATE:20250817
SUMMARY:20. Otevřené vinné sklepy v Čejči
DESCRIPTION:Milý přátelé\, milovníci vína a dobré zábavy. Rádi bychom vás pozvali na 20. ročník&nbsp\;Otevřených vinných sklepů&nbsp\;v Čejči\, který&nbsp\;se uskuteční 16. srpna 2025 od 11. hod. tradičně v areálu vinných sklepů \,\,Pod Búdama".Těšit se můžete na&nbsp\;20 otevřených sklepů a vinařství\, dobré jídlo a večerní zábavu s cimbálovou muzikou Stupava a rockovou kapelou Bruce entertainment.Občerstvení zajistí cateringová firma a foodtrucky. Potěší vás pestrá kuchyně\, slané i&nbsp\;sladké a káva.Akci obohatí seskok parašutistů\, přímo do areálu sklepů.Parkování s obytnými&nbsp\;vozy i stanování je možné v areálu bez poplatku.&nbsp\;&nbsp\;V ceně je zahrnnuta neomezená ochutnávka ve všech sklepech\, vstup na večerní zábavu\, 3x&nbsp\; kupon na nákup lahví (300 Kč)\, sklenička\, katalog\, taška\, psací potřeba.&nbsp\;Přijďte se pobavit&nbsp\;se sklenkou dobrého vína. Načerpejte atmosféru Moravy\, kde jinde než ve vinných sklepech. Těšíme se na setkání s vámi.Zahrádkáři a vinaři Čejč
LOCATION:Čejč
END:VEVENT
END:VCALENDAR