BEGIN:VCALENDAR
VERSION:2.0
CALSCALE:GREGORIAN
PRODID:-//MyApp//Calendar 1.0//EN
BEGIN:VEVENT
METHOD:PUBLISH
UID:53461@regionalniportaly.cz
DTSTAMP:20260424T113554Z
DTSTART;VALUE=DATE:20260118
DTEND;VALUE=DATE:20260119
SUMMARY:Velká zebra aneb jak že se to jmenujete
DESCRIPTION:autor: Jean- Jacques Bricaire a Maurice Lassayquesrežie: Petr Paloušprodukce: Divadlo Palacehrají: Ondřej Vetchý\, Jitka Ježková nebo Eva Kodešová\, Jaromír Dulava\, Dana Černá\, Martina Hudečková a Zdeněk Vencl nebo Jiří Štrébl nebo Zdeněk VelenChristian má "nemoc". S každou ženou vydrží jen chvíli. Byl ženatý s Gisele\, ale po čase na něj padla hrůza a pocítil nepřekonatelnou potřebu utéct. Aby své svědomí alespoň částečně utišil\, uzavřel ve prospěch své ženy vysokou životní pojistku a předstíral\, že se na rybách utopil. Tento trik úspěšně použil v životě dvakrát a právě se ho chystá zrealizovat potřetí. Jenomže tentokrát mu osud postaví do cesty problém v podobě přítele z dětství\, který ho pozná podle náhodné fotografie v novinách a navštíví ho.Christian\, který měl vždy vše dopodrobna naplánováno\, musí najednou improvizovat a ke své hrůze se ocitá tváří v tvář se svými "vdovami" i novou snoubenkou. Podaří se mu tuto nezávidění hodnou situaci zvládnout i potřetí?&nbsp\;
LOCATION:Bzenec
END:VEVENT
END:VCALENDAR