BEGIN:VCALENDAR
VERSION:2.0
CALSCALE:GREGORIAN
PRODID:-//MyApp//Calendar 1.0//EN
BEGIN:VEVENT
METHOD:PUBLISH
UID:53747@regionalniportaly.cz
DTSTAMP:20260424T113439Z
DTSTART;VALUE=DATE:20250620
DTEND;VALUE=DATE:20250621
SUMMARY:Hollywood Symphony | Ratíškovice
DESCRIPTION:Hollywood Symphony – symfonický koncert filmových hitů pod širým nebem📅&nbsp\;20. června 2025📍&nbsp\;Letní parket RatíškovicePřijďte si vychutnat magický večer plný hudby\, která hýbe světem stříbrného plátna! Pod hvězdami na letním parketu v Ratíškovicích zazní nejslavnější filmové melodie v podání symfonického orchestru v rámci jedinečného koncertu&nbsp\;Hollywood Symphony.Těšte se na velkolepé hudební ztvárnění ikonických snímků jako&nbsp\;Pán prstenů\,&nbsp\;Star Wars\,&nbsp\;Titanic\,&nbsp\;Pulp Fiction\,&nbsp\;Jurský park&nbsp\;a mnoho dalších. Monumentální zvuk orchestru vás přenese přímo do srdce filmových příběhů\, které jste milovali – a které vám znovu připomenou\, proč je filmová hudba tak silným zážitkem.Za interpretací stojí renomovaný orchestr&nbsp\;Grande Orchestra\, který je známý svou precizností\, energií a hlubokým citem pro filmovou hudbu. Pod taktovkou zkušeného dirigenta&nbsp\;Josefa Javory&nbsp\;ožijí melodie\, které formovaly celé generace diváků po celém světě.🎬&nbsp\;Hudba\, kterou znáte. Atmosféra\, na kterou nezapomenete.
LOCATION:Ratíškovice
END:VEVENT
END:VCALENDAR