BEGIN:VCALENDAR
VERSION:2.0
CALSCALE:GREGORIAN
PRODID:-//MyApp//Calendar 1.0//EN
BEGIN:VEVENT
METHOD:PUBLISH
UID:53834@regionalniportaly.cz
DTSTAMP:20260424T113605Z
DTSTART;VALUE=DATE:20250614
DTEND;VALUE=DATE:20250615
SUMMARY:Muzejní noc
DESCRIPTION:Vlastivědné muzeum Kyjov připravilo na sobotu 14. června 2025 od 17 do 22 hodin již tradiční muzejní noc.\nProgram bude propojen s aktuální výstavou Léta ponížení i hrdosti – Druhá světová válka v Kyjově. Výstava se kromě prezentace samotného závěru tohoto válečného konfliktu v dubnu 1945 v Kyjově a v jeho nejbližším okolí zaměřuje též na období\, jež bezprostředně předcházelo mnichovské dohodě\, dále na dobu okupace a na situaci po osvobození města.\nSoučástí programu muzejní noci jsou přednášky Mgr. Dagmar Martinkové\, Ph.D.\, o bojové cestě\n1. československého armádního sboru za 2. světové války a PhDr. Lukáše Lexy\, Ph.D.\, s tematikou osvobozování jihovýchodní Moravy (včetně Kyjova) Rumunskou královskou armádou na jaře 1945\; průběžné komentované prohlídky výstavy\; ukázky dobové vojenské výzbroje a výstroje i program pro děti. O vhled do rumunské lidové hudby se postará muzika Hazafele specializující se na tradiční rumunskou a maďarskou hudební produkci. Otevřena bude také stálá interaktivní expozice v budově zámečku Museum Pictum. Vstup na muzejní noc je zdarma.\n \nProgram : 17.00 otevření výstavy a expozice\n17.30 přednáška Mgr. Dagmar Martinkové\, Ph.D.\, o bojové cestě 1. československého armádního sboru za 2. světové války 19.00 přednáška PhDr. Lukáše Lexy\, Ph.D.\, s tematikou osvobozování jihovýchodní Moravy (včetně Kyjova) Rumunskou královskou armádou na jaře 1945\n19.30 koncert muziky Hazafele\n \nPo celou dobu:\nvýstava Léta ponížení i hrdosti – Druhá světová válka v Kyjově\n stálá interaktivní expozice v budově zámečku Museum Pictum\nukázky dobové vojenské výzbroje a výstroje\ndoprovodný program pro děti\nnabídka vín v rámci akce Otevřené sklepy Kyjovska\n \nZMĚNA PROGRAMU VYHRAZENA
LOCATION:Kyjov
END:VEVENT
END:VCALENDAR