BEGIN:VCALENDAR
VERSION:2.0
CALSCALE:GREGORIAN
PRODID:-//MyApp//Calendar 1.0//EN
BEGIN:VEVENT
METHOD:PUBLISH
UID:54002@regionalniportaly.cz
DTSTAMP:20260424T113623Z
DTSTART;VALUE=DATE:20250512
DTEND;VALUE=DATE:20250513
SUMMARY:Komentované prohlídky k výstavě Léta ponížení i hrdosti. Druhá světová válka v Kyjově.
DESCRIPTION:Ve dnech 12.\, 22.\, 25. a 29. května 2025 budou probíhat průběžně po celý den dle otevírací doby komentované prohlídky autora výstavy "Léta ponížení i hrdosti. Druhá světová válka v Kyjově" Mgr. Vojtěcha Urbančíka.
LOCATION:Kyjov
END:VEVENT
END:VCALENDAR