BEGIN:VCALENDAR
VERSION:2.0
CALSCALE:GREGORIAN
PRODID:-//MyApp//Calendar 1.0//EN
BEGIN:VEVENT
METHOD:PUBLISH
UID:54302@regionalniportaly.cz
DTSTAMP:20260424T113614Z
DTSTART;VALUE=DATE:20250525
DTEND;VALUE=DATE:20250526
SUMMARY:Letní FITfest
DESCRIPTION:Srdečně Vás zveme na FITfest\, nebo-li festival zdraví\, který se bude konat 25.5&nbsp\;od 13hod. v sále Kyjovské knihovny.Na této akci propojujeme&nbsp\;tři hlavní pilíře zdravého životního stylu:STRAVU - PSYCHIKU - POHYB.Tentokrát se můžete na:- Nutriční filozofii&nbsp\;(jak funguje naše tělo)- Letní grilování zdravě a hravě- Psychika a jídlo: Proč nestačí jen změnit talíř- Cvičení pro každého: vedené lekce (zumba\, posilování\, jóga)V ceně vstupenky máte i balíček proteinových dobrot\, drobné občerstvení a také diagnostiku tělesné stavby zdarma.
LOCATION:Kyjov
END:VEVENT
END:VCALENDAR