BEGIN:VCALENDAR
VERSION:2.0
CALSCALE:GREGORIAN
PRODID:-//MyApp//Calendar 1.0//EN
BEGIN:VEVENT
METHOD:PUBLISH
UID:54313@regionalniportaly.cz
DTSTAMP:20260424T145611Z
DTSTART;VALUE=DATE:20250905
DTEND;VALUE=DATE:20250906
SUMMARY:Ratíškovský festiválek + mini food festival 2025
DESCRIPTION:Další ročník Ratíškovského festiválku je tady!Chystáme pro vás další akci plnou&nbsp\;skvělé hudby\, dobrého jídla a pohodové atmosféry. Čeká vás den nabitý živou muzikou a pestrou nabídkou dobrot v rámci&nbsp\;MINI FOOD FESTIVALU.Přijďte si užít konec léta s přáteli\, rodinou nebo jen tak – na místě vás čeká kombinace chutí\, vůní a zážitků\, na kterou se nezapomíná.&nbsp\;Vstupné:250&nbsp\;Kč v předprodeji350&nbsp\;Kč na místěDěti do 12 let zdarma (pouze v doprovodu dospělé osoby)ZTP/P si musí zakoupit klasickou vstupenku + jeden doprovod zdarma&nbsp\;Letos vystoupí:Renne DangPam RabbitATMO musicBabet&amp\;Band&nbsp\;Na co se těšit:BurgeryMexické specialityNeapolskou pizzuGrilované pochoutkyRolovanou zmrzlinuSladké palačinkyLokální vínoČepované pivo i nealkoA spousta dalších chutí...
LOCATION:Ratíškovice
END:VEVENT
END:VCALENDAR