BEGIN:VCALENDAR
VERSION:2.0
CALSCALE:GREGORIAN
PRODID:-//MyApp//Calendar 1.0//EN
BEGIN:VEVENT
METHOD:PUBLISH
UID:54398@regionalniportaly.cz
DTSTAMP:20260424T162810Z
DTSTART;VALUE=DATE:20250710
DTEND;VALUE=DATE:20250713
SUMMARY:12. Mezinárodní folklorní festival Mistřín 2025
DESCRIPTION:Mezinárodní folklorní festival Mistřín 2025 se uskuteční od 10. do 13. července ve sportovním areálu Orla ve Svatobořicích-Mistříně. Festival nabídne bohatý program plný hudby\, tance a tradic z různých koutů světa. Mezi účinkujícími se představí například skupiny Fleret\, Harafica\, BROLN\, Mistříňanka\, BANDA a další domácí i zahraniční soubory. Každý den vás čekají jedinečné pořady plné hudby\, tance a tradic z různých regionů. Festival je vhodný pro všechny věkové kategorie a nabízí bezbariérový přístup. ​ Přijďte si užít neopakovatelnou atmosféru folkloru a oslavit s námi bohatství lidové kultury.
LOCATION:Svatobořice-Mistřín
END:VEVENT
END:VCALENDAR