BEGIN:VCALENDAR
VERSION:2.0
CALSCALE:GREGORIAN
PRODID:-//MyApp//Calendar 1.0//EN
BEGIN:VEVENT
METHOD:PUBLISH
UID:54576@regionalniportaly.cz
DTSTAMP:20260424T083334Z
DTSTART;VALUE=DATE:20250816
DTEND;VALUE=DATE:20250817
SUMMARY:Metla Fest 5.
DESCRIPTION:Line-up:16.20 - 17.00 - HATERS17.20 - 18.00 - BLACK LIGHT18.20 - 19.00 - NVÚ19.20 - 20.00 - GLEJT20.30 - 21.30 - KONFLIKT21.50 - 22.30 - MELANCHOLY PESSIMISM23.00 - 24.00 - MASTER&nbsp\;Stanování v areálu zdarma.GPG vstupu&nbsp\;48.9122269N\, 17.0967947ENa akci lze platit pouze hotově!! Bankomat je vzdálen 650 m u Kulturního domu.Vstup na místě 500 KčZTP 300 Kč (pouze na místě)Děti do 15 let v doprovodu dospělého zdarma.
LOCATION:Dubňany
END:VEVENT
END:VCALENDAR