BEGIN:VCALENDAR
VERSION:2.0
CALSCALE:GREGORIAN
PRODID:-//MyApp//Calendar 1.0//EN
BEGIN:VEVENT
METHOD:PUBLISH
UID:54724@regionalniportaly.cz
DTSTAMP:20260422T035643Z
DTSTART;VALUE=DATE:20250808
DTEND;VALUE=DATE:20250809
SUMMARY:Magda Malá & Bohuš Matuš s kapelou Charlie Band
DESCRIPTION:Hudební večer začne skvělý sólový&nbsp\;hudebník&nbsp\;David&nbsp\;Dodrda&nbsp\;a následně bude pokračovat vystoupením&nbsp\;dvou&nbsp\;neobyčejných hlasů&nbsp\;muzikálových pódií\, Magdy Malé a Bohuše Matuše\, v doprovodu vynikající&nbsp\;kapely Charlie Band.&nbsp\;Zazní největší hity z&nbsp\;českých i světových muzikálů&nbsp\;jako Jsi můj pán\, Slavíci z Madridu\, Vím\, že jsi se mnou\, Stokrát chválím čas\, a také&nbsp\;další úžasné duety.
LOCATION:Hovorany
END:VEVENT
END:VCALENDAR