BEGIN:VCALENDAR
VERSION:2.0
CALSCALE:GREGORIAN
PRODID:-//MyApp//Calendar 1.0//EN
BEGIN:VEVENT
METHOD:PUBLISH
UID:54933@regionalniportaly.cz
DTSTAMP:20260422T075056Z
DTSTART;VALUE=DATE:20250602
DTEND;VALUE=DATE:20250603
SUMMARY:NOVÉ TERMÍNY Komentovaných prohlídek k výstavě Léta ponížení i hrdosti
DESCRIPTION:Pro velký úspěch přidáváme další termíny komentovaných prohlídek ve dnech 2. a 12. června 2025\, které budou probíhat průběžně po celý den dle otevírací doby. Průvodcem prohlídek bude autor výstavy "Léta ponížení i hrdosti. Druhá světová válka v Kyjově" Mgr. Vojtěch Urbančík.
LOCATION:Kyjov
END:VEVENT
END:VCALENDAR