BEGIN:VCALENDAR
VERSION:2.0
CALSCALE:GREGORIAN
PRODID:-//MyApp//Calendar 1.0//EN
BEGIN:VEVENT
METHOD:PUBLISH
UID:55038@regionalniportaly.cz
DTSTAMP:20260422T075234Z
DTSTART;VALUE=DATE:20251103
DTEND;VALUE=DATE:20251104
SUMMARY:Tigran je ve městě
DESCRIPTION:Stand-Up komik&nbsp\;z televizního pořadu Comedy Club&nbsp\;Tigran Hovakimyan&nbsp\;přijíždí do KYJOVA&nbsp\;se svým speciálem. Přijďte se pobavit. Čeká vás&nbsp\;nezapomenutelný stand-up večer&nbsp\;plný humoru\, energie a skvělých vtipů!&nbsp\;Tigranův předskokan bude český stand-up komik\, herec\, režisér a scenárista&nbsp\;Jiří Jakima.Těšte se na večer plný smíchu\, nekorektního i hrubozrnného humoru \;-)
LOCATION:Kyjov
END:VEVENT
END:VCALENDAR