BEGIN:VCALENDAR
VERSION:2.0
CALSCALE:GREGORIAN
PRODID:-//MyApp//Calendar 1.0//EN
BEGIN:VEVENT
METHOD:PUBLISH
UID:55137@regionalniportaly.cz
DTSTAMP:20260424T133457Z
DTSTART;VALUE=DATE:20250705
DTEND;VALUE=DATE:20250706
SUMMARY:Noční otevřené sklepy v Šardicích
DESCRIPTION:Srdečně Vás zveme 5. července 2025 na&nbsp\;Noční otevřené sklepy&nbsp\;do Šardic\, a to od 17:00 do 24:00 hod.&nbsp\;&nbsp\;Bude připraveno téměř 200 vzorků vín v 13 sklepech. Každý nabídne to nejlepší co má\, pohoštění ve sklepech samozřejmostí. Během dne se můžete ve sklepech těšit na zpívání mužského sboru.&nbsp\;
LOCATION:Šardice
END:VEVENT
END:VCALENDAR