BEGIN:VCALENDAR
VERSION:2.0
CALSCALE:GREGORIAN
PRODID:-//MyApp//Calendar 1.0//EN
BEGIN:VEVENT
METHOD:PUBLISH
UID:56222@regionalniportaly.cz
DTSTAMP:20260424T082349Z
DTSTART;VALUE=DATE:20250829
DTEND;VALUE=DATE:20250830
SUMMARY:Summer Party Majk Spirit & DJ Roxtar
DESCRIPTION:Závěr&nbsp\;léta u kterého nesmíš chybět! Největší summer party na regioně s&nbsp\;hvězdy jako:&nbsp\;Majk SpiritDJ&nbsp\;Grimaso&nbsp\;DJ ROXTARDJ Lumidee5RO &amp\; DJ KrudyBoyDj Marek
LOCATION:Dubňany
END:VEVENT
END:VCALENDAR