BEGIN:VCALENDAR
VERSION:2.0
CALSCALE:GREGORIAN
PRODID:-//MyApp//Calendar 1.0//EN
BEGIN:VEVENT
METHOD:PUBLISH
UID:56229@regionalniportaly.cz
DTSTAMP:20260422T075146Z
DTSTART;VALUE=DATE:20250809
DTEND;VALUE=DATE:20250810
SUMMARY:Galerie rulandských vín v ČR - národní výstava vín v Kyjově
DESCRIPTION:Cech kyjovských vinařů Vás srdečně zve na 19. ročník Galerie rulandských vín v ČR.&nbsp\;Přijďte ochutnat přes 400 nejlepších Rulandských bílých\, šedých\, modrých a Chardonnay z České republiky i ze zahraničí. Soutěžní vína hodnotí profesionální degustátoři. Nejlepší víno získá cenu hejtmana Jihomoravského kraje\, speciální ceny čekají také šampiony jednotlivých odrůd.&nbsp\;Výstava se koná v sobotu 9. srpna 2025 od 14 hodin na náměstí Hrdinů před budovou gymnázia v Kyjově. Od 16 hodin zahraje Kapela Přemka Máčela.&nbsp\;Bohaté občerstvení pro návštěvníky je zajištěno.Nenechte si ujít jedinečnou příležitost ochutnat vína od profesionálních vinařů z celé České republiky na jednom místě. Nahlédněte do katalogu z loňska&nbsp\;https://bit.ly/GRV-2024.Vstupné do areálu&nbsp\;je 100 Kč. Degustace bude řešena buď "bezednou skleničkou" nebo kupony - cena kuponu je 10 Kč.&nbsp\;Vzorky budou v cenovém rozsahu 1 až 3 kupony\, degustační vzorek je 0.05 l. Cena bezedné skleničky je 400 Kč.Pro více informací sledujte událost na Facebooku.Těšíme se na Vás!&nbsp\;
LOCATION:Kyjov
END:VEVENT
END:VCALENDAR