BEGIN:VCALENDAR
VERSION:2.0
CALSCALE:GREGORIAN
PRODID:-//MyApp//Calendar 1.0//EN
BEGIN:VEVENT
METHOD:PUBLISH
UID:56346@regionalniportaly.cz
DTSTAMP:20260424T133357Z
DTSTART;VALUE=DATE:20250722
DTEND;VALUE=DATE:20250723
SUMMARY:Kouzlo derby / Náhradní termín
DESCRIPTION:Jedná se o náhradní termín projekce\, která bohužel z technických důvodů neproběhla.&nbsp\;Jeden zápas\, mnoho příběhů. Profesorka bohemistiky\, která miluje fotbal. Otec a přítel dcery. Fotbalový rozhodčí a jubilejní zápas. Zpěvák a zamilovaná pražská radní. Komentátor a expert ve studiu nebo mladý fotbalový talent. Ve hvězdně obsazené komedii podle scénáře&nbsp\;Petra Kolečka&nbsp\;se rozehrává několik příběhů\, které se postupně propojí a vyústí během velkolepého finále přímo na stadionu během důležitého utkání. Název filmu odkazuje na šlágr fotbalové ligy\, ve skutečnosti je ale&nbsp\;Kouzlo derby&nbsp\;hlavně o lásce a vášni\, které s sebou život přináší v různých podobách.
LOCATION:Ratíškovice
END:VEVENT
END:VCALENDAR