BEGIN:VCALENDAR
VERSION:2.0
CALSCALE:GREGORIAN
PRODID:-//MyApp//Calendar 1.0//EN
BEGIN:VEVENT
METHOD:PUBLISH
UID:56713@regionalniportaly.cz
DTSTAMP:20260422T035703Z
DTSTART;VALUE=DATE:20250806
DTEND;VALUE=DATE:20250915
SUMMARY:Stav se stavebnicí Cheva
DESCRIPTION:Vlastivědné muzeum Kyjov pořádá v termínu 1. 8.–15. 9. 2025 doprovodnou akci k výstavě Svět kostiček® CHEVA® STAV SI SE STAVEBNICÍ CHEVA®. Vytvořte originální model ze stavebnice CHEVA®\, vyfoťte\, popište\, umístěte na FB Vlastivědného muzea Kyjov a uvidíte\, kolik lajků dostane právě Váš model. Soutěžit mohou jednotlivci i rodiny\, společná práce se počítá. O vítězi rozhodne veřejné hlasování na FB Vlastivědného muzea Kyjov. Získejte nejvíc lajků a vyhrajte! Vyhlášení výsledků na stránkách FB v sobotu 20. září v rámci akce V ZÁŘÍ KYJOV PAŘÍ.
LOCATION:Kyjov
END:VEVENT
END:VCALENDAR