BEGIN:VCALENDAR
VERSION:2.0
CALSCALE:GREGORIAN
PRODID:-//MyApp//Calendar 1.0//EN
BEGIN:VEVENT
METHOD:PUBLISH
UID:56714@regionalniportaly.cz
DTSTAMP:20260424T100456Z
DTSTART;VALUE=DATE:20250920
DTEND;VALUE=DATE:20250921
SUMMARY:V září Kyjov paří - Vlastivědné muzeum Kyjov
DESCRIPTION:V rámci akce V září Kyjov paří máme pro návštěvníky v sobotu 20. září 2025 připraveno promítání pohádek na promítačce Diax retro v časech 11.00\, 13.00 a 15.00 hodin\, muzejní archeohrátky (archeologický program nejen pro děti) a vyhodnocení akce se stavebnicí Cheva na FB. V tento den je vstup na výstavu Svět kostiček Cheva ZDARMA. Stálá expozice otevřena a zpoplatněna dle ceníku Vlastivědného muzea Kyjov.
LOCATION:Kyjov
END:VEVENT
END:VCALENDAR