BEGIN:VCALENDAR
VERSION:2.0
CALSCALE:GREGORIAN
PRODID:-//MyApp//Calendar 1.0//EN
BEGIN:VEVENT
METHOD:PUBLISH
UID:57611@regionalniportaly.cz
DTSTAMP:20260424T133426Z
DTSTART;VALUE=DATE:20251121
DTEND;VALUE=DATE:20251122
SUMMARY:Classicum Mozarteum / koncert roku 2025
DESCRIPTION:Zveme vás na jedinečný hudební večer\, který propojuje krásu klasické hudby s mladistvou energií a osobitým pojetím. Projekt&nbsp\;CLASSICUM&nbsp\;MOZARTEUM&nbsp\;se v rámci turné&nbsp\;Cheb\, Kyjov a Praha&nbsp\;představí s exkluzivním programem\, jehož základ je postaven na operní tvorbě&nbsp\;Wolfganga Amadea Mozarta&nbsp\;– skladatele\, jehož dílo se stalo symbolem nadčasové dokonalosti.Můžete se těšit na&nbsp\;pestrý repertoár\, jehož součástí jsou&nbsp\;virtuózní&nbsp\;klavírní&nbsp\;kusy\,&nbsp\;intimní písně a dramatické&nbsp\;operní&nbsp\;árie\, které definovaly epochu klasicismu. Mozartovy nejslavnější árie z oper&nbsp\;Idomeneo\,&nbsp\;Don Giovanni\,&nbsp\;La clemenza di Tito&nbsp\;či&nbsp\;Così fan tutte&nbsp\;zazní vedle lyrických klenotů&nbsp\;Franze Schuberta\, dramatického náboje&nbsp\;Ludwiga van Beethovena&nbsp\;a čisté krásy operní hudby&nbsp\;Christopha Willibalda Glucka.&nbsp\;Obsazení:Lukáš Sidorják\, operní pěvec&nbsp\;s téměř patnáctiletou&nbsp\;praxí\, jehož interpretace je oceňována pro přirozený výraz a muzikálnost. Je laureátem několika pěveckých soutěží a pravidelným hostem koncertních pódií.Ilaybüke Algür\, klavíristka a skladatelka&nbsp\;původem z Istanbulu\, absolventka Pražské konzervatoře. Její&nbsp\;interpretace v sobě spojuje technickou bravuru s citem pro barvu a atmosféru.Inspiratio Quintet\, dechový kvintet&nbsp\;složený z mladých a talentovaných hudebníků\, který získal ocenění na mezinárodních soutěžích. Se svým repertoárem vystupuje nejen ve velkých městech České republiky\, ale také v dalších městech střední Evropy.&nbsp\;Koncertní turné CLASSICUM MOZARTEUM&nbsp\;není jen koncert. Je to oslava hudby\, která přetrvává staletí\, a přesto nás dokáže znovu překvapovat. Přijďte se stát součástí večera\, na který jen tak nezapomenete.Délka koncertu:&nbsp\;1 hodina 40 minut&nbsp\;(včetně 20&nbsp\;minutové přestávky).
LOCATION:Kyjov
END:VEVENT
END:VCALENDAR