BEGIN:VCALENDAR
VERSION:2.0
CALSCALE:GREGORIAN
PRODID:-//MyApp//Calendar 1.0//EN
BEGIN:VEVENT
METHOD:PUBLISH
UID:57807@regionalniportaly.cz
DTSTAMP:20260422T075303Z
DTSTART;VALUE=DATE:20251031
DTEND;VALUE=DATE:20251102
SUMMARY:Filmový festival Kyjograf - celofestivalová vstupenka
DESCRIPTION:Po rozkliknutí tlačítka "Koupit vstupenku" se nabídne přehled akreditací.Kyjov již pošesté ožije filmem. Kyjograf nabídne výrazné české snímky\, besedy s tvůrci\, vlastní kavárnu a bar\, DJs\, tvořivé dílny nebo dvojkoncert kapel Mutanti Hledaj Východisko a Berlin Manson.&nbsp\;Přehled celofestivalových vstupenekCelofestivalová vstupenka KOMPLET (všechny filmy a dvojkoncert Mutanti Hledaj Východisko a Berlin Manson) ~ 800 Kč/650 Kč - Student + ZTP/P)Celofestivalová vstupenka&nbsp\; FILMOVÁ (bez koncertu)&nbsp\;~ 550 Kč/450 Kč - Student + ZTP/PCelofestivalová vstupenka MECENÁŠSKÁ &nbsp\;(akreditace komplet obohacená dobrým skutkem) ~ 1333 Kč&nbsp\;&nbsp\;Kompletní program&nbsp\;www.kyjograf.cz
LOCATION:Kyjov
END:VEVENT
END:VCALENDAR