BEGIN:VCALENDAR
VERSION:2.0
CALSCALE:GREGORIAN
PRODID:-//MyApp//Calendar 1.0//EN
BEGIN:VEVENT
METHOD:PUBLISH
UID:58445@regionalniportaly.cz
DTSTAMP:20260422T080516Z
DTSTART;VALUE=DATE:20251016
DTEND;VALUE=DATE:20251017
SUMMARY:One Man Show - Vláďa Hron
DESCRIPTION:One Man Show českého moderátora\, zpěváka\, komika a imitátora Vládi Hrona.
LOCATION:Mutěnice
END:VEVENT
END:VCALENDAR