BEGIN:VCALENDAR
VERSION:2.0
CALSCALE:GREGORIAN
PRODID:-//MyApp//Calendar 1.0//EN
BEGIN:VEVENT
METHOD:PUBLISH
UID:58596@regionalniportaly.cz
DTSTAMP:20260422T182425Z
DTSTART;VALUE=DATE:20251213
DTEND;VALUE=DATE:20251214
SUMMARY:Hlas vánoc - Martin Chodúr
DESCRIPTION:Vánoční recitál s doprovodem klavíru\, smyčcového kvarteta a příčné flétny\, nazvaný „Hlas Vánoc“\, přináší posluchačům široký výběr písní spojených tématem Vánoc a jedinečným hlasem Martina Chodúra. \nV rámci svátečního repertoáru zazní jak české\, tak i světově známé písně\, které pocházejí z repertoárů nejslavnějších interpretů 20. století. Posluchači se mohou těšit na slavné vánoční hity z oblasti popu\, jazzové skvosty i tradiční černošský gospel. \nVšechny písně vynikají svou melodičností a zdůrazňují zpěv\, přičemž většina z nich navozuje vánoční atmosféru známou lidem po celém světě.\nHudební doprovod zajišťují umělci z Janáčkovy filharmonie Ostrava a ostravské konzervatoře.
LOCATION:Svatobořice-Mistřín
END:VEVENT
END:VCALENDAR