BEGIN:VCALENDAR
VERSION:2.0
CALSCALE:GREGORIAN
PRODID:-//MyApp//Calendar 1.0//EN
BEGIN:VEVENT
METHOD:PUBLISH
UID:58603@regionalniportaly.cz
DTSTAMP:20260422T075616Z
DTSTART;VALUE=DATE:20251102
DTEND;VALUE=DATE:20251103
SUMMARY:Workshop klasického animovaného filmu 2 | Kyjograf
DESCRIPTION:Chcete poodhalit zákulisí výroby animovaných filmů a vytvořit si vlastní krátký film? Znáte pohádky o Rákosníčkovi nebo medvědy ze série Potkali se u Kolína?Na festivalu Kyjograf budete mít možnost si takový film vytvořit. Seznámíme se s celkovým procesem vzniku klasického animovaného filmu\, a to od prvotního nápadu\, přes výrobu rekvizit a výtvarné scény\, až po samotné rozpohybování plošné nebo poloplošné loutky.Děti od 8&nbsp\;let\, začátečníci i pokročilíProgram zajišťují: lektoři Studia Scala ve spolupráci s festivalem KyjografMísto konání: Městská knihovna KyjovDOPORUČUJEME ZAKOUPIT VSTUPENKU V PŘEDPRODEJI.Kapacita omezenáCena:&nbsp\;250&nbsp\;Kč/dítěDélka kurzu:&nbsp\;3 hodinyObčerstvení:&nbsp\;Drobné občerstvení zajištěno&nbsp\;www.kyjograf.czV případě dotazů nás neváhejte kontaktovat 733644494 marketa.klimesova@kyjograf.cz
LOCATION:Kyjov
END:VEVENT
END:VCALENDAR