BEGIN:VCALENDAR
VERSION:2.0
CALSCALE:GREGORIAN
PRODID:-//MyApp//Calendar 1.0//EN
BEGIN:VEVENT
METHOD:PUBLISH
UID:58605@regionalniportaly.cz
DTSTAMP:20260424T151610Z
DTSTART;VALUE=DATE:20251031
DTEND;VALUE=DATE:20251101
SUMMARY:Sbormist | Kyjograf
DESCRIPTION:PO PROJEKCI NÁSLEDUJE BESEDA S&nbsp\;REŽISÉREM ONDŘEJEM PROVAZNÍKEM A PRODUCENTEM JIŘÍM KONEČNÝMDrama | Česko\, Slovensko | 106 minut | 2D | česky | nevhodné pro nezletilé osoby do 12 letRežie: Ondřej ProvazníkHrají: Kateřina Falbrová\, Juraj Loj\, Maya Kintera\, Zuzana Šulajová\, Marek Cisovský\, Ivana Wojtylová ad.&nbsp\;PO PROJEKCI NÁSLEDUJE BESEDA S&nbsp\;REŽISÉREM ONDŘEJEM PROVAZNÍKEM A PRODUCENTEM JIŘÍM KONEČNÝMSvět dospívajících zpěvaček\, prestižní koncerty a turné po vysněné Americe\, to je proslulý dívčí sbor\, do nějž se na začátku 90. let touží dostat i třináctiletá Karolína. Během přelomové sezóny se musí vyrovnat s nadanými konkurentkami včetně své starší sestry Lucie a získat si respekt obdivovaného sbormistra. Křehké našlapování okolo tvůrčího vztahu s autoritou\, jejíž metody není Karolína schopna dohlédnout\, se může ale snadno vymknout."Bez diskuze jeden z nejlepších českých filmů posledních let. Netlačí na pilu\, atmosféru buduje pozvolna až do mistrovského finále… Debutující Kateřina Falbrová za tím vším dělá nekompromisní tečku\, a když se z toho vzpamatujete\, zjistíte\, že se právě zrodila hvězda."&nbsp\;Kde: Kino PanoramaVstupné: 150 Kč / 130 Kč ZTP/P a studenti&nbsp\;
LOCATION:Kyjov
END:VEVENT
END:VCALENDAR